BEGIN:VCALENDAR
VERSION:2.0
PRODID:Events Booking
BEGIN:VEVENT
UID:69e6345797895
SUMMARY:Rock The Mantra - Live Music\, Kirtan and Sound Bath
DESCRIPTION:Live Music &amp\; Sound Bath
 Kirtan has its roots in India\, 
 chanting prayers set to music.&nbsp\; Traditionally done in the sacred lan
 guage of sanskrit\, it has the ability to calm the mind\, soothe the spiri
 t\, and nourish the soul.&nbsp\; \"Rock The Mantra\" also adds other langu
 ages and familiar songs\, with encouragement to sing and dance along with.
 
 Live music will be followed by a sound bath with singing bowls and othe
 r instruments.&nbsp\;&nbsp\;
LOCATION:923 Buford Road\, Bon Air\, 23235 Virginia\, United States
DTSTART:20240517T223000Z
DTEND:20240518T000000Z
DTSTAMP:20240508T223419Z
ORGANIZER;CN=Unity Bon Air:MAILTO:info@unitybonair.org
GEO:37.510842;-77.551651
X-APPLE-STRUCTURED-LOCATION;VALUE=URI;X-ADDRESS=923 Buford Road\, Bon Air\,
  23235 Virginia\, United States;X-APPLE-RADIUS=72;X-TITLE=Sanctuary:37.510
 842;-77.551651
END:VEVENT
END:VCALENDAR